BEGIN:VCALENDAR
VERSION:2.0
PRODID:-//Sabine Brocks - ECPv5.6.0//NONSGML v1.0//EN
CALSCALE:GREGORIAN
METHOD:PUBLISH
X-WR-CALNAME:Sabine Brocks
X-ORIGINAL-URL:https://www.sabinebrocks.de
X-WR-CALDESC:Veranstaltungen für Sabine Brocks
BEGIN:VTIMEZONE
TZID:Europe/Berlin
BEGIN:DAYLIGHT
TZOFFSETFROM:+0100
TZOFFSETTO:+0200
TZNAME:CEST
DTSTART:20200329T010000
END:DAYLIGHT
BEGIN:STANDARD
TZOFFSETFROM:+0200
TZOFFSETTO:+0100
TZNAME:CET
DTSTART:20201025T010000
END:STANDARD
END:VTIMEZONE
BEGIN:VEVENT
DTSTART;TZID=Europe/Berlin:20200927T100000
DTEND;TZID=Europe/Berlin:20200927T133000
DTSTAMP:20260425T000102
CREATED:20200614T113010Z
LAST-MODIFIED:20200614T113010Z
UID:492-1601200800-1601213400@www.sabinebrocks.de
SUMMARY:Crashkurs Psychokinesiologie Teil 1
DESCRIPTION:
URL:https://www.sabinebrocks.de/seminar/crashkurs-psychokinesiologie-teil-1/
END:VEVENT
END:VCALENDAR