BEGIN:VCALENDAR
VERSION:2.0
PRODID:-//Sabine Brocks - ECPv5.6.0//NONSGML v1.0//EN
CALSCALE:GREGORIAN
METHOD:PUBLISH
X-WR-CALNAME:Sabine Brocks
X-ORIGINAL-URL:https://www.sabinebrocks.de
X-WR-CALDESC:Veranstaltungen für Sabine Brocks
BEGIN:VTIMEZONE
TZID:Europe/Berlin
BEGIN:DAYLIGHT
TZOFFSETFROM:+0100
TZOFFSETTO:+0200
TZNAME:CEST
DTSTART:20200329T010000
END:DAYLIGHT
BEGIN:STANDARD
TZOFFSETFROM:+0200
TZOFFSETTO:+0100
TZNAME:CET
DTSTART:20201025T010000
END:STANDARD
END:VTIMEZONE
BEGIN:VEVENT
DTSTART;TZID=Europe/Berlin:20200829T100000
DTEND;TZID=Europe/Berlin:20200830T170000
DTSTAMP:20260424T222313
CREATED:20200614T113424Z
LAST-MODIFIED:20200614T114014Z
UID:496-1598695200-1598806800@www.sabinebrocks.de
SUMMARY:Großer Kinesiologiekurs 1 (Samstag und Sonntag)
DESCRIPTION:Der Kurs findet jeweils Samstag und Sonntag von 10.00 bis 17.00 Uhr statt.
URL:https://www.sabinebrocks.de/seminar/grosser-kinesiologiekurs-1/
CATEGORIES:Kinesiologie,Seminare
END:VEVENT
END:VCALENDAR