BEGIN:VCALENDAR
VERSION:2.0
PRODID:-//Sabine Brocks - ECPv5.6.0//NONSGML v1.0//EN
CALSCALE:GREGORIAN
METHOD:PUBLISH
X-WR-CALNAME:Sabine Brocks
X-ORIGINAL-URL:https://www.sabinebrocks.de
X-WR-CALDESC:Veranstaltungen für Sabine Brocks
BEGIN:VTIMEZONE
TZID:Europe/Berlin
BEGIN:DAYLIGHT
TZOFFSETFROM:+0100
TZOFFSETTO:+0200
TZNAME:CEST
DTSTART:20200329T010000
END:DAYLIGHT
BEGIN:STANDARD
TZOFFSETFROM:+0200
TZOFFSETTO:+0100
TZNAME:CET
DTSTART:20201025T010000
END:STANDARD
END:VTIMEZONE
BEGIN:VEVENT
DTSTART;TZID=Europe/Berlin:20200823T100000
DTEND;TZID=Europe/Berlin:20200823T130000
DTSTAMP:20260424T222416
CREATED:20200614T171537Z
LAST-MODIFIED:20200614T171537Z
UID:513-1598176800-1598187600@www.sabinebrocks.de
SUMMARY:Gruppen-Rückführung
DESCRIPTION:Rückführung in eines deiner erfolgreichsten Leben. Sitzung per  Zoom oder in einer Gruppe in Düsseldorf.
URL:https://www.sabinebrocks.de/seminar/gruppen-rueckfuehrung/
CATEGORIES:Seminare
END:VEVENT
END:VCALENDAR