BEGIN:VCALENDAR
VERSION:2.0
PRODID:-//Sabine Brocks - ECPv5.6.0//NONSGML v1.0//EN
CALSCALE:GREGORIAN
METHOD:PUBLISH
X-WR-CALNAME:Sabine Brocks
X-ORIGINAL-URL:https://www.sabinebrocks.de
X-WR-CALDESC:Veranstaltungen für Sabine Brocks
BEGIN:VTIMEZONE
TZID:Europe/Berlin
BEGIN:DAYLIGHT
TZOFFSETFROM:+0100
TZOFFSETTO:+0200
TZNAME:CEST
DTSTART:20200329T010000
END:DAYLIGHT
BEGIN:STANDARD
TZOFFSETFROM:+0200
TZOFFSETTO:+0100
TZNAME:CET
DTSTART:20201025T010000
END:STANDARD
END:VTIMEZONE
BEGIN:VEVENT
DTSTART;TZID=Europe/Berlin:20200712T163000
DTEND;TZID=Europe/Berlin:20200712T183000
DTSTAMP:20260424T203612
CREATED:20200614T130303Z
LAST-MODIFIED:20200614T133519Z
UID:508-1594571400-1594578600@www.sabinebrocks.de
SUMMARY:Wasser\, unser Nahrungsmittel Nummer 1
DESCRIPTION:Wie wir unser Wasser verbessern können\, mit Iris Weitzel und Sabine „Soana“ Brocks
URL:https://www.sabinebrocks.de/seminar/wasser-unser-nahrungsmittel-nummer-1/
CATEGORIES:Gesundheit
END:VEVENT
END:VCALENDAR